BEGIN:VCALENDAR
VERSION:2.0
PRODID:-//NECA Penn-Del-Jersey - ECPv6.14.2//NONSGML v1.0//EN
CALSCALE:GREGORIAN
METHOD:PUBLISH
X-ORIGINAL-URL:https://neca-pdj.org
X-WR-CALDESC:Events for NECA Penn-Del-Jersey
REFRESH-INTERVAL;VALUE=DURATION:PT1H
X-Robots-Tag:noindex
X-PUBLISHED-TTL:PT1H
BEGIN:VTIMEZONE
TZID:America/New_York
BEGIN:DAYLIGHT
TZOFFSETFROM:-0500
TZOFFSETTO:-0400
TZNAME:EDT
DTSTART:20250309T070000
END:DAYLIGHT
BEGIN:STANDARD
TZOFFSETFROM:-0400
TZOFFSETTO:-0500
TZNAME:EST
DTSTART:20251102T060000
END:STANDARD
BEGIN:DAYLIGHT
TZOFFSETFROM:-0500
TZOFFSETTO:-0400
TZNAME:EDT
DTSTART:20260308T070000
END:DAYLIGHT
BEGIN:STANDARD
TZOFFSETFROM:-0400
TZOFFSETTO:-0500
TZNAME:EST
DTSTART:20261101T060000
END:STANDARD
END:VTIMEZONE
BEGIN:VTIMEZONE
TZID:America/Halifax
BEGIN:DAYLIGHT
TZOFFSETFROM:-0400
TZOFFSETTO:-0300
TZNAME:ADT
DTSTART:20240310T060000
END:DAYLIGHT
BEGIN:STANDARD
TZOFFSETFROM:-0300
TZOFFSETTO:-0400
TZNAME:AST
DTSTART:20241103T050000
END:STANDARD
END:VTIMEZONE
BEGIN:VEVENT
DTSTART;VALUE=DATE:20260121
DTEND;VALUE=DATE:20260124
DTSTAMP:20260419T120513
CREATED:20260120T190532Z
LAST-MODIFIED:20260120T190532Z
UID:10000474-1768953600-1769212799@neca-pdj.org
SUMMARY:Electri Council Meeting
DESCRIPTION:
URL:https://neca-pdj.org/event/electri-council-meeting/
CATEGORIES:NECA Events
END:VEVENT
BEGIN:VEVENT
DTSTART;TZID=America/New_York:20260120T160000
DTEND;TZID=America/New_York:20260120T170000
DTSTAMP:20260419T120513
CREATED:20260120T190156Z
LAST-MODIFIED:20260120T190157Z
UID:10000473-1768924800-1768928400@neca-pdj.org
SUMMARY:Board of Directors Meeting
DESCRIPTION:
URL:https://neca-pdj.org/event/board-of-directors-meeting-29/
LOCATION:Via Zoom
CATEGORIES:NECA Events
END:VEVENT
BEGIN:VEVENT
DTSTART;VALUE=DATE:20250912
DTEND;VALUE=DATE:20250916
DTSTAMP:20260419T120513
CREATED:20250109T151133Z
LAST-MODIFIED:20250109T151133Z
UID:10000459-1757635200-1757980799@neca-pdj.org
SUMMARY:NECA Convention/Trade Show
DESCRIPTION:
URL:https://neca-pdj.org/event/neca-convention-trade-show-6/
LOCATION:Chicago\, IL
CATEGORIES:NECA Events
END:VEVENT
BEGIN:VEVENT
DTSTART;VALUE=DATE:20250709
DTEND;VALUE=DATE:20250712
DTSTAMP:20260419T120513
CREATED:20250109T150816Z
LAST-MODIFIED:20250109T150816Z
UID:10000456-1752019200-1752278399@neca-pdj.org
SUMMARY:Eastern Region Managers Meeting
DESCRIPTION:
URL:https://neca-pdj.org/event/eastern-region-managers-meeting-5/
LOCATION:Boston\, Boston\, MA\, United States
CATEGORIES:NECA Events
END:VEVENT
BEGIN:VEVENT
DTSTART;VALUE=DATE:20250604
DTEND;VALUE=DATE:20250607
DTSTAMP:20260419T120513
CREATED:20250109T150413Z
LAST-MODIFIED:20250109T150413Z
UID:10000452-1748995200-1749254399@neca-pdj.org
SUMMARY:Academy of Electrical Contractors Annual Meeting
DESCRIPTION:
URL:https://neca-pdj.org/event/academy-of-electrical-contractors-annual-meeting/
LOCATION:Charleston\, SC\, Charleston\, SC\, United States
CATEGORIES:NECA Events
END:VEVENT
BEGIN:VEVENT
DTSTART;VALUE=DATE:20250407
DTEND;VALUE=DATE:20250410
DTSTAMP:20260419T120513
CREATED:20250109T145253Z
LAST-MODIFIED:20250109T145253Z
UID:10000448-1743984000-1744243199@neca-pdj.org
SUMMARY:NECA Now
DESCRIPTION:
URL:https://neca-pdj.org/event/neca-now-5/
LOCATION:Hollywood\, FL\, Hollywood\, FL\, United States
CATEGORIES:NECA Events
END:VEVENT
BEGIN:VEVENT
DTSTART;VALUE=DATE:20250406
DTEND;VALUE=DATE:20250408
DTSTAMP:20260419T120513
CREATED:20250109T145017Z
LAST-MODIFIED:20250109T145200Z
UID:10000447-1743897600-1744070399@neca-pdj.org
SUMMARY:Women in NECA (WIN) Conference
DESCRIPTION:
URL:https://neca-pdj.org/event/ronald-e-smallwood-scholarship-application-deadline-4/
LOCATION:Hollywood\, FL\, Hollywood\, FL\, United States
CATEGORIES:NECA Events
END:VEVENT
BEGIN:VEVENT
DTSTART;VALUE=DATE:20250303
DTEND;VALUE=DATE:20250306
DTSTAMP:20260419T120513
CREATED:20250109T144727Z
LAST-MODIFIED:20250109T144727Z
UID:10000444-1740960000-1741219199@neca-pdj.org
SUMMARY:AEI
DESCRIPTION:
URL:https://neca-pdj.org/event/aei-5/
LOCATION:Chicago\, IL
CATEGORIES:NECA Events
END:VEVENT
BEGIN:VEVENT
DTSTART;VALUE=DATE:20250219
DTEND;VALUE=DATE:20250222
DTSTAMP:20260419T120513
CREATED:20250109T144636Z
LAST-MODIFIED:20250109T144636Z
UID:10000443-1739923200-1740182399@neca-pdj.org
SUMMARY:Future Leaders Conference
DESCRIPTION:
URL:https://neca-pdj.org/event/future-leaders-conference-6/
LOCATION:Nashville\, TN\, Nashville\, TN\, United States
CATEGORIES:NECA Events
END:VEVENT
BEGIN:VEVENT
DTSTART;VALUE=DATE:20250122
DTEND;VALUE=DATE:20250125
DTSTAMP:20260419T120513
CREATED:20250109T144056Z
LAST-MODIFIED:20250109T144056Z
UID:10000439-1737504000-1737763199@neca-pdj.org
SUMMARY:District II Council Meeting
DESCRIPTION:
URL:https://neca-pdj.org/event/district-ii-council-meeting-12/
LOCATION:Charlotte Harbor\, Fl\, Charlotte Harbor\, FL\, United States
CATEGORIES:NECA Events
END:VEVENT
BEGIN:VEVENT
DTSTART;VALUE=DATE:20250115
DTEND;VALUE=DATE:20250118
DTSTAMP:20260419T120513
CREATED:20250109T143926Z
LAST-MODIFIED:20250109T143926Z
UID:10000438-1736899200-1737158399@neca-pdj.org
SUMMARY:Electri International
DESCRIPTION:
URL:https://neca-pdj.org/event/electri-international/
CATEGORIES:NECA Events
END:VEVENT
BEGIN:VEVENT
DTSTART;VALUE=DATE:20240928
DTEND;VALUE=DATE:20241002
DTSTAMP:20260419T120514
CREATED:20231101T185334Z
LAST-MODIFIED:20231101T185334Z
UID:10000413-1727481600-1727827199@neca-pdj.org
SUMMARY:NECA Convention/Trade Show
DESCRIPTION:
URL:https://neca-pdj.org/event/neca-convention-trade-show-5/
LOCATION:San Diego\, CA\, San Diego\, CA
CATEGORIES:NECA Events
END:VEVENT
BEGIN:VEVENT
DTSTART;VALUE=DATE:20240306
DTEND;VALUE=DATE:20240310
DTSTAMP:20260419T120514
CREATED:20231101T183806Z
LAST-MODIFIED:20231101T183806Z
UID:10000403-1709683200-1710028799@neca-pdj.org
SUMMARY:Eastern Regional Conference
DESCRIPTION:
URL:https://neca-pdj.org/event/eastern-regional-conference/
LOCATION:Paradise Island\, Bahamas\, Paradise Island\, Bahamas
CATEGORIES:NECA Events
END:VEVENT
BEGIN:VEVENT
DTSTART;VALUE=DATE:20240221
DTEND;VALUE=DATE:20240224
DTSTAMP:20260419T120514
CREATED:20231101T183710Z
LAST-MODIFIED:20231101T183710Z
UID:10000402-1708473600-1708732799@neca-pdj.org
SUMMARY:AEI
DESCRIPTION:
URL:https://neca-pdj.org/event/aei-4/
LOCATION:San Diego\, CA\, San Diego\, CA
CATEGORIES:NECA Events
END:VEVENT
BEGIN:VEVENT
DTSTART;VALUE=DATE:20240205
DTEND;VALUE=DATE:20240208
DTSTAMP:20260419T120514
CREATED:20231101T183320Z
LAST-MODIFIED:20231101T183553Z
UID:10000401-1707091200-1707350399@neca-pdj.org
SUMMARY:WINFL Conference
DESCRIPTION:
URL:https://neca-pdj.org/event/winfl-conference/
LOCATION:Atlanta\, GA\, Atlanta\, GA
CATEGORIES:NECA Events
END:VEVENT
BEGIN:VEVENT
DTSTART;VALUE=DATE:20240124
DTEND;VALUE=DATE:20240127
DTSTAMP:20260419T120514
CREATED:20231101T182813Z
LAST-MODIFIED:20231101T183118Z
UID:10000400-1706054400-1706313599@neca-pdj.org
SUMMARY:District II Council Meeting
DESCRIPTION:
URL:https://neca-pdj.org/event/district-ii-council-meeting-11/
LOCATION:St. Petersburg\, FL\, St. Petersburg\, FL
CATEGORIES:NECA Events
END:VEVENT
BEGIN:VEVENT
DTSTART;TZID=America/Halifax:20240116T140000
DTEND;TZID=America/Halifax:20240116T150000
DTSTAMP:20260419T120514
CREATED:20231101T182241Z
LAST-MODIFIED:20231101T182241Z
UID:10000398-1705413600-1705417200@neca-pdj.org
SUMMARY:Officers' Meeting
DESCRIPTION:
URL:https://neca-pdj.org/event/officers-meeting-7/
LOCATION:Chapter Office\, 2003 renaissance blvd\, King of Prussia\, PA\, 19406\, United States
CATEGORIES:NECA Events
END:VEVENT
END:VCALENDAR