BEGIN:VCALENDAR
VERSION:2.0
PRODID:-//NECA Penn-Del-Jersey - ECPv6.14.2//NONSGML v1.0//EN
CALSCALE:GREGORIAN
METHOD:PUBLISH
X-WR-CALNAME:NECA Penn-Del-Jersey
X-ORIGINAL-URL:https://neca-pdj.org
X-WR-CALDESC:Events for NECA Penn-Del-Jersey
REFRESH-INTERVAL;VALUE=DURATION:PT1H
X-Robots-Tag:noindex
X-PUBLISHED-TTL:PT1H
BEGIN:VTIMEZONE
TZID:UTC
BEGIN:STANDARD
TZOFFSETFROM:+0000
TZOFFSETTO:+0000
TZNAME:UTC
DTSTART:20160101T000000
END:STANDARD
END:VTIMEZONE
BEGIN:VEVENT
DTSTART;VALUE=DATE:20160330
DTEND;VALUE=DATE:20160402
DTSTAMP:20260420T094638
CREATED:20151210T231945Z
LAST-MODIFIED:20151210T231945Z
UID:10000036-1459296000-1459555199@neca-pdj.org
SUMMARY:Future Leaders Conference
DESCRIPTION:
URL:https://neca-pdj.org/event/future-leaders-conference-2/
LOCATION:Atlanta
END:VEVENT
END:VCALENDAR